BEGIN:VCALENDAR
VERSION:2.0
PRODID:-//hacksw/handcal//NONSGML v1.0//EN
BEGIN:VEVENT
DTSTART:20231205T183000
DTEND:20231205T210000
LOCATION:GEM Labs \n142, Avenue des Martyrs \n38000 GRENOBLE
ORGANIZER;CN=GEM Alumni TEAM - Grenoble:MAILTO:
SUMMARY:Découvrez les Labs du Campus GEM Labs
DESCRIPTION:Nous vous proposons une soirée "Portes Ouvertes" avec une visite guidée des Labs, dans lesquels les étudiants, les enseignants, les chercheurs et entreprises manipulent les technologies de demain,...
URL:https://alumni.grenoble-em.com/fr/group/grenoble/78/calendar/decouvrez-les-labs-du-campus-gem-labs/2023/12/05/995
BEGIN:VALARM
TRIGGER:-P0DT1H0M0S
ACTION:DISPLAY
END:VALARM
END:VEVENT
END:VCALENDAR